BEGIN:VCALENDAR
VERSION:2.0
PRODID:-//Reit- und Fahrverein Roßdorf e.V. - ECPv6.15.20//NONSGML v1.0//EN
CALSCALE:GREGORIAN
METHOD:PUBLISH
X-WR-CALNAME:Reit- und Fahrverein Roßdorf e.V.
X-ORIGINAL-URL:https://rfv-rossdorf.de
X-WR-CALDESC:Veranstaltungen für Reit- und Fahrverein Roßdorf e.V.
REFRESH-INTERVAL;VALUE=DURATION:PT1H
X-Robots-Tag:noindex
X-PUBLISHED-TTL:PT1H
BEGIN:VTIMEZONE
TZID:Europe/Berlin
BEGIN:DAYLIGHT
TZOFFSETFROM:+0100
TZOFFSETTO:+0200
TZNAME:CEST
DTSTART:20220327T010000
END:DAYLIGHT
BEGIN:STANDARD
TZOFFSETFROM:+0200
TZOFFSETTO:+0100
TZNAME:CET
DTSTART:20221030T010000
END:STANDARD
BEGIN:DAYLIGHT
TZOFFSETFROM:+0100
TZOFFSETTO:+0200
TZNAME:CEST
DTSTART:20230326T010000
END:DAYLIGHT
BEGIN:STANDARD
TZOFFSETFROM:+0200
TZOFFSETTO:+0100
TZNAME:CET
DTSTART:20231029T010000
END:STANDARD
BEGIN:DAYLIGHT
TZOFFSETFROM:+0100
TZOFFSETTO:+0200
TZNAME:CEST
DTSTART:20240331T010000
END:DAYLIGHT
BEGIN:STANDARD
TZOFFSETFROM:+0200
TZOFFSETTO:+0100
TZNAME:CET
DTSTART:20241027T010000
END:STANDARD
BEGIN:DAYLIGHT
TZOFFSETFROM:+0100
TZOFFSETTO:+0200
TZNAME:CEST
DTSTART:20250330T010000
END:DAYLIGHT
BEGIN:STANDARD
TZOFFSETFROM:+0200
TZOFFSETTO:+0100
TZNAME:CET
DTSTART:20251026T010000
END:STANDARD
BEGIN:DAYLIGHT
TZOFFSETFROM:+0100
TZOFFSETTO:+0200
TZNAME:CEST
DTSTART:20260329T010000
END:DAYLIGHT
BEGIN:STANDARD
TZOFFSETFROM:+0200
TZOFFSETTO:+0100
TZNAME:CET
DTSTART:20261025T010000
END:STANDARD
END:VTIMEZONE
BEGIN:VEVENT
DTSTART;VALUE=DATE:20251213
DTEND;VALUE=DATE:20251214
DTSTAMP:20260424T171346
CREATED:20250415T202505Z
LAST-MODIFIED:20250415T202505Z
UID:23590-1765584000-1765670399@rfv-rossdorf.de
SUMMARY:Weihnachtsfeier
DESCRIPTION:
URL:https://rfv-rossdorf.de/termine/weihnachtsfeier/
LOCATION:RFV-Roßdorf e.V.\, Bleichstraße 11\, Bruchköbel\, 63486\, Deutschland
CATEGORIES:Gemeinschaft
ATTACH;FMTTYPE=image/webp:https://rfv-rossdorf.de/wp-content/uploads/2023/10/20131208-IMG_3488.webp
END:VEVENT
BEGIN:VEVENT
DTSTART;VALUE=DATE:20250913
DTEND;VALUE=DATE:20250914
DTSTAMP:20260424T171346
CREATED:20250415T201726Z
LAST-MODIFIED:20250415T201944Z
UID:23588-1757721600-1757807999@rfv-rossdorf.de
SUMMARY:Ausritt der Vereinsjugend
DESCRIPTION:geplant von Anita
URL:https://rfv-rossdorf.de/termine/ausritt-der-vereinsjugend/
LOCATION:RFV-Roßdorf e.V.\, Bleichstraße 11\, Bruchköbel\, 63486\, Deutschland
CATEGORIES:Gemeinschaft
ATTACH;FMTTYPE=image/webp:https://rfv-rossdorf.de/wp-content/uploads/2023/11/Corelli-Jogi-Belissimo-Sweet-Melle-Prosecco-Royal.webp
END:VEVENT
BEGIN:VEVENT
DTSTART;VALUE=DATE:20250816
DTEND;VALUE=DATE:20250818
DTSTAMP:20260424T171346
CREATED:20250415T201637Z
LAST-MODIFIED:20250415T201637Z
UID:23586-1755302400-1755475199@rfv-rossdorf.de
SUMMARY:Sommerturnier: Dressur
DESCRIPTION:
URL:https://rfv-rossdorf.de/termine/sommerturnier-dressur/
LOCATION:RFV-Roßdorf e.V.\, Bleichstraße 11\, Bruchköbel\, 63486\, Deutschland
CATEGORIES:Turnier
ATTACH;FMTTYPE=image/webp:https://rfv-rossdorf.de/wp-content/uploads/2023/10/20181104-IMG_7322.webp
END:VEVENT
BEGIN:VEVENT
DTSTART;VALUE=DATE:20250815
DTEND;VALUE=DATE:20250816
DTSTAMP:20260424T171346
CREATED:20250415T201529Z
LAST-MODIFIED:20250415T201529Z
UID:23584-1755216000-1755302399@rfv-rossdorf.de
SUMMARY:Arbeitseinsatz für Sommerturnier
DESCRIPTION:Möglichkeit Stunden zu sammeln
URL:https://rfv-rossdorf.de/termine/arbeitseinsatz-fuer-sommerturnier-3/
LOCATION:RFV-Roßdorf e.V.\, Bleichstraße 11\, Bruchköbel\, 63486\, Deutschland
CATEGORIES:Turnier
ATTACH;FMTTYPE=image/webp:https://rfv-rossdorf.de/wp-content/uploads/2023/10/MG_8308.webp
END:VEVENT
BEGIN:VEVENT
DTSTART;VALUE=DATE:20250810
DTEND;VALUE=DATE:20250811
DTSTAMP:20260424T171346
CREATED:20250415T201453Z
LAST-MODIFIED:20250415T201453Z
UID:23582-1754784000-1754870399@rfv-rossdorf.de
SUMMARY:Sommerturnier: WBO
DESCRIPTION:
URL:https://rfv-rossdorf.de/termine/sommerturnier-wbo/
LOCATION:RFV-Roßdorf e.V.\, Bleichstraße 11\, Bruchköbel\, 63486\, Deutschland
CATEGORIES:Turnier
ATTACH;FMTTYPE=image/webp:https://rfv-rossdorf.de/wp-content/uploads/2023/10/1902052_731183990247589_660455710_n.webp
END:VEVENT
BEGIN:VEVENT
DTSTART;VALUE=DATE:20250809
DTEND;VALUE=DATE:20250810
DTSTAMP:20260424T171346
CREATED:20250415T201406Z
LAST-MODIFIED:20250415T202304Z
UID:23580-1754697600-1754783999@rfv-rossdorf.de
SUMMARY:Sommerturnier: Springen
DESCRIPTION:
URL:https://rfv-rossdorf.de/termine/sommerturnier-springen/
LOCATION:RFV-Roßdorf e.V.\, Bleichstraße 11\, Bruchköbel\, 63486\, Deutschland
CATEGORIES:Turnier
ATTACH;FMTTYPE=image/webp:https://rfv-rossdorf.de/wp-content/uploads/2023/10/Daisy-Hannoveraner-Rappe-2012.webp
END:VEVENT
BEGIN:VEVENT
DTSTART;VALUE=DATE:20250808
DTEND;VALUE=DATE:20250809
DTSTAMP:20260424T171346
CREATED:20250415T201238Z
LAST-MODIFIED:20250415T201238Z
UID:23578-1754611200-1754697599@rfv-rossdorf.de
SUMMARY:Arbeitseinsatz für Sommerturnier
DESCRIPTION:Möglichkeit Stunden zu sammeln
URL:https://rfv-rossdorf.de/termine/arbeitseinsatz-fuer-sommerturnier-2/
LOCATION:RFV-Roßdorf e.V.\, Bleichstraße 11\, Bruchköbel\, 63486\, Deutschland
CATEGORIES:Turnier
ATTACH;FMTTYPE=image/webp:https://rfv-rossdorf.de/wp-content/uploads/2023/10/20181104-IMG_7322.webp
END:VEVENT
BEGIN:VEVENT
DTSTART;VALUE=DATE:20250803
DTEND;VALUE=DATE:20250804
DTSTAMP:20260424T171346
CREATED:20250415T201059Z
LAST-MODIFIED:20250415T201059Z
UID:23576-1754179200-1754265599@rfv-rossdorf.de
SUMMARY:Arbeitseinsatz für Sommerturnier
DESCRIPTION:Möglichkeit Stunden zu sammeln
URL:https://rfv-rossdorf.de/termine/arbeitseinsatz-fuer-sommerturnier/
LOCATION:RFV-Roßdorf e.V.\, Bleichstraße 11\, Bruchköbel\, 63486\, Deutschland
CATEGORIES:Turnier
ATTACH;FMTTYPE=image/webp:https://rfv-rossdorf.de/wp-content/uploads/2023/10/MG_8308.webp
END:VEVENT
BEGIN:VEVENT
DTSTART;VALUE=DATE:20250525
DTEND;VALUE=DATE:20250526
DTSTAMP:20260424T171346
CREATED:20250415T200819Z
LAST-MODIFIED:20250415T202345Z
UID:23574-1748131200-1748217599@rfv-rossdorf.de
SUMMARY:Vereinsausritt
DESCRIPTION:geplant von Kathi
URL:https://rfv-rossdorf.de/termine/vereinsausritt-2/
LOCATION:RFV-Roßdorf e.V.\, Bleichstraße 11\, Bruchköbel\, 63486\, Deutschland
CATEGORIES:Gemeinschaft
ATTACH;FMTTYPE=image/webp:https://rfv-rossdorf.de/wp-content/uploads/2023/11/Corelli-Jogi-Belissimo-Sweet-Melle-Prosecco-Royal.webp
END:VEVENT
BEGIN:VEVENT
DTSTART;VALUE=DATE:20241012
DTEND;VALUE=DATE:20241014
DTSTAMP:20260424T171346
CREATED:20231018T134608Z
LAST-MODIFIED:20231106T034805Z
UID:20770-1728691200-1728863999@rfv-rossdorf.de
SUMMARY:Dressur
DESCRIPTION:
URL:https://rfv-rossdorf.de/termine/dressur-5/
LOCATION:RFV-Roßdorf e.V.\, Bleichstraße 11\, Bruchköbel\, 63486\, Deutschland
CATEGORIES:Turnier
ATTACH;FMTTYPE=image/webp:https://rfv-rossdorf.de/wp-content/uploads/2023/10/MG_8308.webp
END:VEVENT
BEGIN:VEVENT
DTSTART;VALUE=DATE:20240914
DTEND;VALUE=DATE:20240916
DTSTAMP:20260424T171346
CREATED:20231018T134443Z
LAST-MODIFIED:20231106T035555Z
UID:20768-1726272000-1726444799@rfv-rossdorf.de
SUMMARY:Dressur
DESCRIPTION:
URL:https://rfv-rossdorf.de/termine/dressur-4/
LOCATION:RFV-Roßdorf e.V.\, Bleichstraße 11\, Bruchköbel\, 63486\, Deutschland
CATEGORIES:Turnier
ATTACH;FMTTYPE=image/webp:https://rfv-rossdorf.de/wp-content/uploads/2023/10/20181104-IMG_7322.webp
END:VEVENT
BEGIN:VEVENT
DTSTART;VALUE=DATE:20240907
DTEND;VALUE=DATE:20240909
DTSTAMP:20260424T171346
CREATED:20231018T134417Z
LAST-MODIFIED:20240303T124025Z
UID:20766-1725667200-1725839999@rfv-rossdorf.de
SUMMARY:Springen
DESCRIPTION:
URL:https://rfv-rossdorf.de/termine/dressur-3/
LOCATION:RFV-Roßdorf e.V.\, Bleichstraße 11\, Bruchköbel\, 63486\, Deutschland
CATEGORIES:Turnier
ATTACH;FMTTYPE=image/webp:https://rfv-rossdorf.de/wp-content/uploads/2023/10/Dorina-12-Rudi.webp
END:VEVENT
BEGIN:VEVENT
DTSTART;VALUE=DATE:20240406
DTEND;VALUE=DATE:20240408
DTSTAMP:20260424T171346
CREATED:20231018T134154Z
LAST-MODIFIED:20231106T032546Z
UID:20762-1712361600-1712534399@rfv-rossdorf.de
SUMMARY:Dressurlehrgänge Mario Struck 23/24
DESCRIPTION:Kosten 80€ für beide Tage zzgl. Hallennutzung für externe Reiter*innen.
URL:https://rfv-rossdorf.de/termine/dressurlehrgaenge-mario-struck-23-24-7/
LOCATION:RFV-Roßdorf e.V.\, Bleichstraße 11\, Bruchköbel\, 63486\, Deutschland
CATEGORIES:Lehrgang
ATTACH;FMTTYPE=image/webp:https://rfv-rossdorf.de/wp-content/uploads/2023/10/20181104-IMG_7313.webp
END:VEVENT
BEGIN:VEVENT
DTSTART;VALUE=DATE:20240330
DTEND;VALUE=DATE:20240401
DTSTAMP:20260424T171346
CREATED:20231018T134343Z
LAST-MODIFIED:20231106T035444Z
UID:20764-1711756800-1711929599@rfv-rossdorf.de
SUMMARY:Dressur
DESCRIPTION:
URL:https://rfv-rossdorf.de/termine/dressur-2/
LOCATION:RFV-Roßdorf e.V.\, Bleichstraße 11\, Bruchköbel\, 63486\, Deutschland
CATEGORIES:Turnier
ATTACH;FMTTYPE=image/webp:https://rfv-rossdorf.de/wp-content/uploads/2023/10/Katharina-Leger.webp
END:VEVENT
BEGIN:VEVENT
DTSTART;VALUE=DATE:20240302
DTEND;VALUE=DATE:20240304
DTSTAMP:20260424T171346
CREATED:20231018T134131Z
LAST-MODIFIED:20231106T032523Z
UID:20760-1709337600-1709510399@rfv-rossdorf.de
SUMMARY:Dressurlehrgänge Mario Struck 23/24
DESCRIPTION:Kosten 80€ für beide Tage zzgl. Hallennutzung für externe Reiter*innen.
URL:https://rfv-rossdorf.de/termine/dressurlehrgaenge-mario-struck-23-24-6/
LOCATION:RFV-Roßdorf e.V.\, Bleichstraße 11\, Bruchköbel\, 63486\, Deutschland
CATEGORIES:Lehrgang
ATTACH;FMTTYPE=image/webp:https://rfv-rossdorf.de/wp-content/uploads/2023/10/20181104-IMG_7313.webp
END:VEVENT
BEGIN:VEVENT
DTSTART;VALUE=DATE:20240203
DTEND;VALUE=DATE:20240205
DTSTAMP:20260424T171346
CREATED:20231018T134107Z
LAST-MODIFIED:20231106T032458Z
UID:20758-1706918400-1707091199@rfv-rossdorf.de
SUMMARY:Dressurlehrgänge Mario Struck 23/24
DESCRIPTION:Kosten 80€ für beide Tage zzgl. Hallennutzung für externe Reiter*innen.
URL:https://rfv-rossdorf.de/termine/dressurlehrgaenge-mario-struck-23-24-5/
LOCATION:RFV-Roßdorf e.V.\, Bleichstraße 11\, Bruchköbel\, 63486\, Deutschland
CATEGORIES:Lehrgang
ATTACH;FMTTYPE=image/webp:https://rfv-rossdorf.de/wp-content/uploads/2023/10/20181104-IMG_7313.webp
END:VEVENT
BEGIN:VEVENT
DTSTART;VALUE=DATE:20240106
DTEND;VALUE=DATE:20240108
DTSTAMP:20260424T171346
CREATED:20231018T134042Z
LAST-MODIFIED:20231106T032430Z
UID:20756-1704499200-1704671999@rfv-rossdorf.de
SUMMARY:Dressurlehrgänge Mario Struck 23/24
DESCRIPTION:Kosten 80€ für beide Tage zzgl. Hallennutzung für externe Reiter*innen.
URL:https://rfv-rossdorf.de/termine/dressurlehrgaenge-mario-struck-23-24-4/
LOCATION:RFV-Roßdorf e.V.\, Bleichstraße 11\, Bruchköbel\, 63486\, Deutschland
CATEGORIES:Lehrgang
ATTACH;FMTTYPE=image/webp:https://rfv-rossdorf.de/wp-content/uploads/2023/10/20181104-IMG_7313.webp
END:VEVENT
BEGIN:VEVENT
DTSTART;VALUE=DATE:20231202
DTEND;VALUE=DATE:20231204
DTSTAMP:20260424T171346
CREATED:20231018T134015Z
LAST-MODIFIED:20231106T032331Z
UID:20754-1701475200-1701647999@rfv-rossdorf.de
SUMMARY:Dressurlehrgänge Mario Struck 23/24
DESCRIPTION:Kosten 80€ für beide Tage zzgl. Hallennutzung für externe Reiter*innen.
URL:https://rfv-rossdorf.de/termine/dressurlehrgaenge-mario-struck-23-24-3/
LOCATION:RFV-Roßdorf e.V.\, Bleichstraße 11\, Bruchköbel\, 63486\, Deutschland
CATEGORIES:Lehrgang
ATTACH;FMTTYPE=image/webp:https://rfv-rossdorf.de/wp-content/uploads/2023/10/20181104-IMG_7313.webp
END:VEVENT
BEGIN:VEVENT
DTSTART;VALUE=DATE:20231104
DTEND;VALUE=DATE:20231106
DTSTAMP:20260424T171346
CREATED:20231018T133640Z
LAST-MODIFIED:20231106T032253Z
UID:20751-1699056000-1699228799@rfv-rossdorf.de
SUMMARY:Dressurlehrgänge Mario Struck 23/24
DESCRIPTION:Kosten 80€ für beide Tage zzgl. Hallennutzung für externe Reiter*innen.
URL:https://rfv-rossdorf.de/termine/dressurlehrgaenge-mario-struck-23-24-2/
LOCATION:RFV-Roßdorf e.V.\, Bleichstraße 11\, Bruchköbel\, 63486\, Deutschland
CATEGORIES:Lehrgang
ATTACH;FMTTYPE=image/webp:https://rfv-rossdorf.de/wp-content/uploads/2023/10/20181104-IMG_7313.webp
END:VEVENT
BEGIN:VEVENT
DTSTART;VALUE=DATE:20231021
DTEND;VALUE=DATE:20231023
DTSTAMP:20260424T171346
CREATED:20231018T022842Z
LAST-MODIFIED:20231018T044756Z
UID:20619-1697846400-1698019199@rfv-rossdorf.de
SUMMARY:WBO + Dressur
DESCRIPTION:
URL:https://rfv-rossdorf.de/termine/wbo-dressur/
LOCATION:RFV-Roßdorf e.V.\, Bleichstraße 11\, Bruchköbel\, 63486\, Deutschland
CATEGORIES:Turnier
ATTACH;FMTTYPE=image/webp:https://rfv-rossdorf.de/wp-content/uploads/2023/10/1902052_731183990247589_660455710_n.webp
END:VEVENT
BEGIN:VEVENT
DTSTART;VALUE=DATE:20231007
DTEND;VALUE=DATE:20231009
DTSTAMP:20260424T171346
CREATED:20231018T132602Z
LAST-MODIFIED:20231106T032024Z
UID:20747-1696636800-1696809599@rfv-rossdorf.de
SUMMARY:Dressurlehrgänge Mario Struck 23/24
DESCRIPTION:Kosten 80€ für beide Tage zzgl. Hallennutzung für externe Reiter*innen.
URL:https://rfv-rossdorf.de/termine/dressurlehrgaenge-mario-struck-23-24/
LOCATION:RFV-Roßdorf e.V.\, Bleichstraße 11\, Bruchköbel\, 63486\, Deutschland
CATEGORIES:Lehrgang
ATTACH;FMTTYPE=image/webp:https://rfv-rossdorf.de/wp-content/uploads/2023/10/20181104-IMG_7313.webp
END:VEVENT
BEGIN:VEVENT
DTSTART;VALUE=DATE:20230914
DTEND;VALUE=DATE:20230919
DTSTAMP:20260424T171346
CREATED:20231018T022752Z
LAST-MODIFIED:20231018T044725Z
UID:20617-1694649600-1695081599@rfv-rossdorf.de
SUMMARY:Dressur - Springen - Galaabend mit Aufbau
DESCRIPTION:Der Aufbau findet am 14. und 15. September 2023 statt.\nDer Abbau findet am 18. September 2023 statt.
URL:https://rfv-rossdorf.de/termine/dressur-springen-galaabend-mit-aufbau/
LOCATION:RFV-Roßdorf e.V.\, Bleichstraße 11\, Bruchköbel\, 63486\, Deutschland
CATEGORIES:Turnier
ATTACH;FMTTYPE=image/webp:https://rfv-rossdorf.de/wp-content/uploads/2023/10/20140329-IMG_3889-1.webp
ORGANIZER;CN="RFV-Ro%C3%9Fdorf e.V.":MAILTO:kontakt@rfv-rossdorf.de
END:VEVENT
BEGIN:VEVENT
DTSTART;VALUE=DATE:20230908
DTEND;VALUE=DATE:20230911
DTSTAMP:20260424T171346
CREATED:20231018T021723Z
LAST-MODIFIED:20231018T022359Z
UID:20608-1694131200-1694390399@rfv-rossdorf.de
SUMMARY:Dressur mit Aufbau
DESCRIPTION:Aufbau am 08.09.2023
URL:https://rfv-rossdorf.de/termine/dressur-mit-aufbau/
LOCATION:RFV-Roßdorf e.V.\, Bleichstraße 11\, Bruchköbel\, 63486\, Deutschland
CATEGORIES:Turnier
ATTACH;FMTTYPE=image/webp:https://rfv-rossdorf.de/wp-content/uploads/2023/10/20181104-IMG_7309.webp
ORGANIZER;CN="RFV-Ro%C3%9Fdorf e.V.":MAILTO:kontakt@rfv-rossdorf.de
END:VEVENT
BEGIN:VEVENT
DTSTART;VALUE=DATE:20230521
DTEND;VALUE=DATE:20230522
DTSTAMP:20260424T171346
CREATED:20231018T024418Z
LAST-MODIFIED:20231019T091332Z
UID:20630-1684627200-1684713599@rfv-rossdorf.de
SUMMARY:Vereinsausritt
DESCRIPTION:
URL:https://rfv-rossdorf.de/termine/vereinsausritt/
LOCATION:RFV-Roßdorf e.V.\, Bleichstraße 11\, Bruchköbel\, 63486\, Deutschland
CATEGORIES:Gemeinschaft
ATTACH;FMTTYPE=image/webp:https://rfv-rossdorf.de/wp-content/uploads/2023/10/1897804_731184026914252_1080983607_n.webp
END:VEVENT
BEGIN:VEVENT
DTSTART;VALUE=DATE:20230325
DTEND;VALUE=DATE:20230327
DTSTAMP:20260424T171346
CREATED:20231018T023045Z
LAST-MODIFIED:20231018T024236Z
UID:20623-1679702400-1679875199@rfv-rossdorf.de
SUMMARY:Doppellonge
DESCRIPTION:Lehrgang mit mit J. Kanthak
URL:https://rfv-rossdorf.de/termine/doppellonge/
LOCATION:RFV-Roßdorf e.V.\, Bleichstraße 11\, Bruchköbel\, 63486\, Deutschland
CATEGORIES:Lehrgang
ATTACH;FMTTYPE=image/webp:https://rfv-rossdorf.de/wp-content/uploads/2023/10/20160408-IMG_1810.webp
END:VEVENT
BEGIN:VEVENT
DTSTART;VALUE=DATE:20230318
DTEND;VALUE=DATE:20230320
DTSTAMP:20260424T171346
CREATED:20231018T022956Z
LAST-MODIFIED:20231018T024151Z
UID:20621-1679097600-1679270399@rfv-rossdorf.de
SUMMARY:Doppellonge
DESCRIPTION:Lehrgang mit mit J. Kanthak
URL:https://rfv-rossdorf.de/termine/doppellonge-2/
LOCATION:RFV-Roßdorf e.V.\, Bleichstraße 11\, Bruchköbel\, 63486\, Deutschland
CATEGORIES:Lehrgang
ATTACH;FMTTYPE=image/webp:https://rfv-rossdorf.de/wp-content/uploads/2023/10/20160408-IMG_1801.webp
END:VEVENT
BEGIN:VEVENT
DTSTART;VALUE=DATE:20230423
DTEND;VALUE=DATE:20230425
DTSTAMP:20260424T171346
CREATED:20200428T120523Z
LAST-MODIFIED:20231018T025525Z
UID:1215-1682215200-1682301599@rfv-rossdorf.de
SUMMARY:Dressur
DESCRIPTION:
URL:https://rfv-rossdorf.de/termine/dressur/
LOCATION:RFV-Roßdorf e.V.\, Bleichstraße 11\, Bruchköbel\, 63486\, Deutschland
CATEGORIES:Turnier
ATTACH;FMTTYPE=image/webp:https://rfv-rossdorf.de/wp-content/uploads/2023/10/MG_8308.webp
END:VEVENT
END:VCALENDAR